BEGIN:VCALENDAR
PRODID:-//Pixl8//Eventfolio//EN
VERSION:2.0
X-WR-TIMEZONE:Europe/London
CALSCALE:GREGORIAN
METHOD:PUBLISH
CLASS:PUBLIC
BEGIN:VTIMEZONE
TZID:Europe/London
LAST-MODIFIED:20260306T231828Z
TZURL:https://www.tzurl.org/zoneinfo-outlook/Europe/London
X-LIC-LOCATION:Europe/London
BEGIN:DAYLIGHT
TZNAME:BST
TZOFFSETFROM:+0000
TZOFFSETTO:+0100
DTSTART:19700329T010000
RRULE:FREQ=YEARLY;BYMONTH=3;BYDAY=-1SU
END:DAYLIGHT
BEGIN:STANDARD
TZNAME:GMT
TZOFFSETFROM:+0100
TZOFFSETTO:+0000
DTSTART:19701025T020000
RRULE:FREQ=YEARLY;BYMONTH=10;BYDAY=-1SU
END:STANDARD
END:VTIMEZONE
BEGIN:VEVENT
DTSTART;TZID=Europe/London;VALUE=DATE:20260526
DTEND;TZID=Europe/London;VALUE=DATE:20260529
DTSTAMP:20260422T002317Z
UID:{115DF2F7-E1BA-4A30-8820E4F2364F9077}
LOCATION:Royal College of Surgeons of England\, 38-43 Lincoln's Inn Fields\, London\, WC2A 3PE
SUMMARY:	10th Surgical Approaches to the Spine
DESCRIPTION:This 3-day course will aim to support the Neurosurgical and Orthopaedic Spinal trainee during their training to understand the anatomy of spine and surgical approaches, and develop their skills regarding instrumentation of spine. This course is aimed ST4 - ST8 Neurosurgical and Orthopaedic trainees, Spinal Fellow, Junior Consultants (years 1-3).\n
 \n
 Event details: https://www.boa.ac.uk/learning-and-events/ems-event-calendar/10th-surgical-approaches-to-the-spine.html
PRIORITY:1
END:VEVENT
END:VCALENDAR