BEGIN:VCALENDAR
PRODID:-//Pixl8//Eventfolio//EN
VERSION:2.0
X-WR-TIMEZONE:Europe/London
CALSCALE:GREGORIAN
METHOD:PUBLISH
CLASS:PUBLIC
BEGIN:VTIMEZONE
TZID:Europe/London
LAST-MODIFIED:20260306T231828Z
TZURL:https://www.tzurl.org/zoneinfo-outlook/Europe/London
X-LIC-LOCATION:Europe/London
BEGIN:DAYLIGHT
TZNAME:BST
TZOFFSETFROM:+0000
TZOFFSETTO:+0100
DTSTART:19700329T010000
RRULE:FREQ=YEARLY;BYMONTH=3;BYDAY=-1SU
END:DAYLIGHT
BEGIN:STANDARD
TZNAME:GMT
TZOFFSETFROM:+0100
TZOFFSETTO:+0000
DTSTART:19701025T020000
RRULE:FREQ=YEARLY;BYMONTH=10;BYDAY=-1SU
END:STANDARD
END:VTIMEZONE
BEGIN:VEVENT
DTSTART;TZID=Europe/London;VALUE=DATE:20260527
DTEND;TZID=Europe/London;VALUE=DATE:20260530
DTSTAMP:20260424T165110Z
UID:{0D4C8D47-56B2-4F1B-8A64436C0C45F221}
LOCATION:Park Plaza Victoria London
SUMMARY:41st Annual Meeting of Cervical Spine Research Society Europe 2026 
DESCRIPTION:On behalf of the Cervical Spine Research Society – Europe (CSRS – Europe), we are delighted to invite you to the 41st CSRS – Europe Annual Meeting, taking place in London.\n
 \n
 This prestigious conference will bring together leading experts, researchers, and surgeons from around the globe to discuss the latest advancements, challenges and controversies in cervical spine surgery. The event will feature renowned keynote speakers sharing cutting-edge research, innovative techniques, and best practices in the field.\n
 \n
 Conference highlights:\n
 • Engaging discussions on current challenges and breakthroughs in cervical spine surgery\n
 • Presentations by world-class experts and thought leaders\n
 • Networking opportunities with international peers and specialists\n
 \n
 \n
 Join us in London for this unparalleled opportunity to enhance your expertise, exchange knowledge, and collaborate with professionals shaping the future of cervical spine surgery.\n
 \n
 \n
 We look forward to welcoming you to London for this landmark event!\n
 \n
 \n
 Ahmed Ibrahim (FRCS, PhD)\n
 Congress chair CSRS – Europe 2026\n
 \n
 Event details: https://www.boa.ac.uk/learning-and-events/ems-event-calendar/41st-annual-meeting-of-cervical-spine-research-society-europe-2026.html
PRIORITY:1
END:VEVENT
END:VCALENDAR