BEGIN:VCALENDAR
PRODID:-//Pixl8//Eventfolio//EN
VERSION:2.0
X-WR-TIMEZONE:Europe/London
CALSCALE:GREGORIAN
METHOD:PUBLISH
CLASS:PUBLIC
BEGIN:VTIMEZONE
TZID:Europe/London
LAST-MODIFIED:20260306T231828Z
TZURL:https://www.tzurl.org/zoneinfo-outlook/Europe/London
X-LIC-LOCATION:Europe/London
BEGIN:DAYLIGHT
TZNAME:BST
TZOFFSETFROM:+0000
TZOFFSETTO:+0100
DTSTART:19700329T010000
RRULE:FREQ=YEARLY;BYMONTH=3;BYDAY=-1SU
END:DAYLIGHT
BEGIN:STANDARD
TZNAME:GMT
TZOFFSETFROM:+0100
TZOFFSETTO:+0000
DTSTART:19701025T020000
RRULE:FREQ=YEARLY;BYMONTH=10;BYDAY=-1SU
END:STANDARD
END:VTIMEZONE
BEGIN:VEVENT
DTSTART;TZID=Europe/London:20250222T093000
DTEND;TZID=Europe/London:20250222T162000
DTSTAMP:20260423T091621Z
UID:{69786295-68A2-4F80-B0C789331C8C365D}
LOCATION:Smith & Nephew plc\, 5\, Croxley Green Business Park\, Hatters Ln\, Watford WD18 8YE
SUMMARY:Consultant Preparation Course 
DESCRIPTION:A one-day consultant preparation course catering specifically for candidates applying to NHS orthopaedic consultant posts.\n
 \n
 This course is suitable for ST8 registrars, post CCT trainees, locum consultants and SAS surgeons intending to apply for consultant positions.\n
 \n
 Educational aims/learning objectives:\n
 \n
 To improve your chances of obtaining your dream consultant post\n
 To learn how to structure your answers to maximise your performance\n
 To bring confidence and authority into your interview performance\n
 To learn how to improve any presentation required on interview day\n
 To be able to anticipate what the interviewer wants and where to take it\n
 To cover key NHS issues\n
 \n
 Event details: https://www.boa.ac.uk/learning-and-events/ems-event-calendar/consultant-preparation-course.html
PRIORITY:1
END:VEVENT
END:VCALENDAR