BEGIN:VCALENDAR
PRODID:-//Pixl8//Eventfolio//EN
VERSION:2.0
X-WR-TIMEZONE:Europe/London
CALSCALE:GREGORIAN
METHOD:PUBLISH
CLASS:PUBLIC
BEGIN:VTIMEZONE
TZID:Europe/London
LAST-MODIFIED:20260306T231828Z
TZURL:https://www.tzurl.org/zoneinfo-outlook/Europe/London
X-LIC-LOCATION:Europe/London
BEGIN:DAYLIGHT
TZNAME:BST
TZOFFSETFROM:+0000
TZOFFSETTO:+0100
DTSTART:19700329T010000
RRULE:FREQ=YEARLY;BYMONTH=3;BYDAY=-1SU
END:DAYLIGHT
BEGIN:STANDARD
TZNAME:GMT
TZOFFSETFROM:+0100
TZOFFSETTO:+0000
DTSTART:19701025T020000
RRULE:FREQ=YEARLY;BYMONTH=10;BYDAY=-1SU
END:STANDARD
END:VTIMEZONE
BEGIN:VEVENT
DTSTART;TZID=Europe/London:20230909T090000
DTEND;TZID=Europe/London:20230909T151500
DTSTAMP:20260423T000534Z
UID:{85EC549B-2881-4954-A2FA8433D91F1ABA}
LOCATION: Virtual
SUMMARY:Intensive FRCS (Tr & Orth) Mock viva & Clinical exam course
DESCRIPTION:This course is delivered in partnership with the Orthopaedic Academy and is designed for candidates taking the part 2 FRCS (Tr & Orth) examinations or equivalent. It consists entirely of mock viva and clinical stations. It will provide you with the opportunity to refine and test your knowledge, practice your exam technique, and clarify any issues with an experienced UK based faculty.\n
 \n
 \n
 \n
 Convenor: Mr Firas Arnaout, Consultant Orthopaedic Surgeon\n
 \n
 Event details: https://www.boa.ac.uk/learning-and-events/ems-event-calendar/intensive-frcs-tr-orth-mock-viva-clinical-exam-course.html
PRIORITY:1
END:VEVENT
END:VCALENDAR