BEGIN:VCALENDAR
PRODID:-//Pixl8//Eventfolio//EN
VERSION:2.0
X-WR-TIMEZONE:Europe/London
CALSCALE:GREGORIAN
METHOD:PUBLISH
CLASS:PUBLIC
BEGIN:VTIMEZONE
TZID:Europe/London
LAST-MODIFIED:20260306T231828Z
TZURL:https://www.tzurl.org/zoneinfo-outlook/Europe/London
X-LIC-LOCATION:Europe/London
BEGIN:DAYLIGHT
TZNAME:BST
TZOFFSETFROM:+0000
TZOFFSETTO:+0100
DTSTART:19700329T010000
RRULE:FREQ=YEARLY;BYMONTH=3;BYDAY=-1SU
END:DAYLIGHT
BEGIN:STANDARD
TZNAME:GMT
TZOFFSETFROM:+0100
TZOFFSETTO:+0000
DTSTART:19701025T020000
RRULE:FREQ=YEARLY;BYMONTH=10;BYDAY=-1SU
END:STANDARD
END:VTIMEZONE
BEGIN:VEVENT
DTSTART;TZID=Europe/London;VALUE=DATE:20260727
DTEND;TZID=Europe/London;VALUE=DATE:20260729
DTSTAMP:20260425T154507Z
UID:{4BF9D98E-F058-44DD-BED84746A750413B}
LOCATION:Prague\, Czech Republic
SUMMARY:International Conference on Precision Medicine and AI Healthcare 
DESCRIPTION:Precision Meets Intelligence: Transforming Healthcare with AI and Personalized Medicine\n
 \n
 Event details: https://www.boa.ac.uk/learning-and-events/ems-event-calendar/international-conference-on-precision-medicine-and-ai-healthcare.html
PRIORITY:1
END:VEVENT
END:VCALENDAR