BEGIN:VCALENDAR
PRODID:-//Pixl8//Eventfolio//EN
VERSION:2.0
X-WR-TIMEZONE:Europe/London
CALSCALE:GREGORIAN
METHOD:PUBLISH
CLASS:PUBLIC
BEGIN:VTIMEZONE
TZID:Europe/London
LAST-MODIFIED:20260306T231828Z
TZURL:https://www.tzurl.org/zoneinfo-outlook/Europe/London
X-LIC-LOCATION:Europe/London
BEGIN:DAYLIGHT
TZNAME:BST
TZOFFSETFROM:+0000
TZOFFSETTO:+0100
DTSTART:19700329T010000
RRULE:FREQ=YEARLY;BYMONTH=3;BYDAY=-1SU
END:DAYLIGHT
BEGIN:STANDARD
TZNAME:GMT
TZOFFSETFROM:+0100
TZOFFSETTO:+0000
DTSTART:19701025T020000
RRULE:FREQ=YEARLY;BYMONTH=10;BYDAY=-1SU
END:STANDARD
END:VTIMEZONE
BEGIN:VEVENT
DTSTART;TZID=Europe/London;VALUE=DATE:20251009
DTEND;TZID=Europe/London;VALUE=DATE:20251011
DTSTAMP:20260420T091347Z
UID:{B58D05BC-6B52-4536-B74E04D910C13A36}
LOCATION:Lowry Theatre 
SUMMARY:Manchester International Clubfoot Conference 2025
DESCRIPTION:This event will bring together experts, practitioners, and researchers from around the world to discuss the latest research and best practices in the treatment of clubfoot. Through a series of talks, panel discussions, and workshops, participants will gain insights into the latest advances in clubfoot management and connect with colleagues and peers in the field. By attending this conference, you will have the opportunity to contribute to the development of a community of practitioners dedicated to improving outcomes for patients with clubfoot. We are thrilled to announce the Royal College of Surgeons will be accrediting the conference this year offering CPD point to those in attendance. \n
 Manchester, UK\n
 \n
 Event details: https://www.boa.ac.uk/learning-and-events/ems-event-calendar/manchester-international-clubfoot-conference-2025.html
PRIORITY:1
END:VEVENT
END:VCALENDAR