BEGIN:VCALENDAR
PRODID:-//Pixl8//Eventfolio//EN
VERSION:2.0
X-WR-TIMEZONE:Europe/London
CALSCALE:GREGORIAN
METHOD:PUBLISH
CLASS:PUBLIC
BEGIN:VTIMEZONE
TZID:Europe/London
LAST-MODIFIED:20260306T231828Z
TZURL:https://www.tzurl.org/zoneinfo-outlook/Europe/London
X-LIC-LOCATION:Europe/London
BEGIN:DAYLIGHT
TZNAME:BST
TZOFFSETFROM:+0000
TZOFFSETTO:+0100
DTSTART:19700329T010000
RRULE:FREQ=YEARLY;BYMONTH=3;BYDAY=-1SU
END:DAYLIGHT
BEGIN:STANDARD
TZNAME:GMT
TZOFFSETFROM:+0100
TZOFFSETTO:+0000
DTSTART:19701025T020000
RRULE:FREQ=YEARLY;BYMONTH=10;BYDAY=-1SU
END:STANDARD
END:VTIMEZONE
BEGIN:VEVENT
DTSTART;TZID=Europe/London;VALUE=DATE:20260427
DTEND;TZID=Europe/London;VALUE=DATE:20260428
DTSTAMP:20260424T141529Z
UID:{A398F946-05CB-4372-8A807EBBAC5DBF53}
LOCATION:Newcastle Surgical Training Centre\, Freeman Hospital\, Newcastle upon Tyne 
SUMMARY:National K-Wiring Course 
DESCRIPTION:This course is designed for trainees in Hand Surgery (Orthopaedics and Plastics) irrespective of experience in K-wiring. Learn the sure and proper way of K-wiring and you will not need to do an ORIF ever again, saving you operating time and money. Also understand fluoroscopy and how to use it safely. This is a hands-on course, first with dry bones and then with cadaveric hands. Understand and Practise k-wiring without the pressure of time.\n
 \n
 Event details: https://www.boa.ac.uk/learning-and-events/ems-event-calendar/national-k-wiring-course.html
PRIORITY:1
END:VEVENT
END:VCALENDAR